BEGIN:VCALENDAR
VERSION:2.0
PRODID:-//jEvents 2.0 for Joomla//EN
CALSCALE:GREGORIAN
METHOD:PUBLISH
BEGIN:VEVENT
UID:ad8129476754aac86b67ac0291963b96
CATEGORIES:Club Events
CREATED:20240929T105851
SUMMARY:Höck
DESCRIPTION:
DTSTAMP:20260421T000631
DTSTART;VALUE=DATE:20250621
DTEND;VALUE=DATE:20250622
SEQUENCE:0
TRANSP:OPAQUE
END:VEVENT
END:VCALENDAR