BEGIN:VCALENDAR
VERSION:2.0
PRODID:-//jEvents 2.0 for Joomla//EN
CALSCALE:GREGORIAN
METHOD:PUBLISH
BEGIN:VEVENT
UID:2785751df797447d99facb4acfc617bb
CATEGORIES:Club Events
CREATED:20240929T103441
SUMMARY:Herbstausfahrt
DESCRIPTION:
X-EXTRAINFO:Ob die Herbstausfahrt länger als 2 Tage dauern wird und ob die Verlängerung
  vor oder nach dem Wochenend angehängt wird ist noch in Abklärung.
DTSTAMP:20260421T001603
DTSTART;VALUE=DATE:20250920
DTEND;VALUE=DATE:20250922
SEQUENCE:0
TRANSP:OPAQUE
END:VEVENT
END:VCALENDAR