BEGIN:VCALENDAR
VERSION:2.0
PRODID:-//jEvents 2.0 for Joomla//EN
CALSCALE:GREGORIAN
METHOD:PUBLISH
BEGIN:VEVENT
UID:c2f3cb00cdc7242c43291ac559d3a697
CATEGORIES:Club Events
CREATED:20240929T105949
SUMMARY:52. Internationale Auto Union Veteranen Treffen in Beveren-Waas / Belgien
DESCRIPTION:
DTSTAMP:20260421T001343
DTSTART;VALUE=DATE:20250725
DTEND;VALUE=DATE:20250728
SEQUENCE:0
TRANSP:OPAQUE
END:VEVENT
END:VCALENDAR