BEGIN:VCALENDAR
VERSION:2.0
PRODID:-//jEvents 2.0 for Joomla//EN
CALSCALE:GREGORIAN
METHOD:PUBLISH
BEGIN:VEVENT
UID:7a0a6dbce69218414d48b2562845897f
CATEGORIES:Club Events
CREATED:20240929T110039
SUMMARY:Grill und Fotohöck
DESCRIPTION:
DTSTAMP:20260420T230417
DTSTART;VALUE=DATE:20250816
DTEND;VALUE=DATE:20250817
SEQUENCE:0
TRANSP:OPAQUE
END:VEVENT
END:VCALENDAR