BEGIN:VCALENDAR
VERSION:2.0
PRODID:-//jEvents 2.0 for Joomla//EN
CALSCALE:GREGORIAN
METHOD:PUBLISH
BEGIN:VEVENT
UID:0fc0c7c8ffedd931f71b23f2c9b8a65e
CATEGORIES:Club Events
CREATED:20231212T040024
SUMMARY:Höck/Ausfahrt Museum Enter Derendingen/Solothurn
DESCRIPTION:
DTSTAMP:20260421T101101
DTSTART;VALUE=DATE:20240622
DTEND;VALUE=DATE:20240623
SEQUENCE:0
TRANSP:OPAQUE
END:VEVENT
END:VCALENDAR