BEGIN:VCALENDAR
VERSION:2.0
PRODID:-//jEvents 2.0 for Joomla//EN
CALSCALE:GREGORIAN
METHOD:PUBLISH
BEGIN:VEVENT
UID:f5c59ccf9a0e7837384f61fd82c178ea
CATEGORIES:Oldtimer Events
CREATED:20231212T041202
SUMMARY:51. Internationales Auto Union Veteranen Treffen im Zylinderhaus Bernkastel-Kues
DESCRIPTION:
DTSTAMP:20260421T101214
DTSTART;VALUE=DATE:20240801
DTEND;VALUE=DATE:20240805
SEQUENCE:0
TRANSP:OPAQUE
END:VEVENT
END:VCALENDAR