BEGIN:VCALENDAR
VERSION:2.0
PRODID:-//jEvents 2.0 for Joomla//EN
CALSCALE:GREGORIAN
METHOD:PUBLISH
BEGIN:VEVENT
UID:1ecb397e4e32aa75078c1c64b6e99077
CATEGORIES:Club Events
CREATED:20231212T045528
SUMMARY:Grill/Fotohöck
DESCRIPTION:
DTSTAMP:20260421T101105
DTSTART;VALUE=DATE:20240817
DTEND;VALUE=DATE:20240818
SEQUENCE:0
TRANSP:OPAQUE
END:VEVENT
END:VCALENDAR