BEGIN:VCALENDAR
VERSION:2.0
PRODID:-//jEvents 2.0 for Joomla//EN
CALSCALE:GREGORIAN
METHOD:PUBLISH
BEGIN:VEVENT
UID:897db6d96d8e6247a1be32e3aafaa9c3
CATEGORIES:Club Events
CREATED:20240929T105154
SUMMARY:Generalversammlung
LOCATION:Hotel Kreuz\, Kaiserstuhl AG
DESCRIPTION:
DTSTAMP:20260420T205513
DTSTART:20250412T113000
DTEND:20250412T160000
SEQUENCE:0
TRANSP:OPAQUE
END:VEVENT
END:VCALENDAR