BEGIN:VCALENDAR
VERSION:2.0
PRODID:-//jEvents 2.0 for Joomla//EN
CALSCALE:GREGORIAN
METHOD:PUBLISH
BEGIN:VEVENT
UID:70b15c3dc8c0736c1fd1a51f518b9229
CATEGORIES:Club Events
CREATED:20240929T105701
SUMMARY:Schraubertag
DESCRIPTION:
DTSTAMP:20260420T204830
DTSTART;VALUE=DATE:20250524
DTEND;VALUE=DATE:20250525
SEQUENCE:0
TRANSP:OPAQUE
END:VEVENT
END:VCALENDAR