BEGIN:VCALENDAR
VERSION:2.0
PRODID:-//jEvents 2.0 for Joomla//EN
CALSCALE:GREGORIAN
METHOD:PUBLISH
BEGIN:VEVENT
UID:6a4fdc557319fb736f8258401851a1f1
CATEGORIES:Club Events
CREATED:20240929T110225
SUMMARY:Chlaus und Weihnachtshöck
DESCRIPTION:
DTSTAMP:20260420T204831
DTSTART;VALUE=DATE:20251122
DTEND;VALUE=DATE:20251123
SEQUENCE:0
TRANSP:OPAQUE
END:VEVENT
END:VCALENDAR