BEGIN:VCALENDAR
VERSION:2.0
PRODID:-//jEvents 2.0 for Joomla//EN
CALSCALE:GREGORIAN
METHOD:PUBLISH
BEGIN:VEVENT
UID:0f61863a5a5cd993b30a4a396f710aca
CATEGORIES:Club Events
CREATED:20231212T045631
SUMMARY:Herbstausfahrt
DESCRIPTION:
DTSTAMP:20260421T110452
DTSTART;VALUE=DATE:20240914
DTEND;VALUE=DATE:20240916
SEQUENCE:0
TRANSP:OPAQUE
END:VEVENT
END:VCALENDAR