BEGIN:VCALENDAR
VERSION:2.0
PRODID:-//jEvents 2.0 for Joomla//EN
CALSCALE:GREGORIAN
METHOD:PUBLISH
BEGIN:VEVENT
UID:c74bcc93289da0da6e5f66ad209198fb
CATEGORIES:Club Events
CREATED:20231212T045737
SUMMARY:Fotohöck
DESCRIPTION:
DTSTAMP:20260421T113937
DTSTART;VALUE=DATE:20241018
DTEND;VALUE=DATE:20241019
SEQUENCE:0
TRANSP:OPAQUE
END:VEVENT
END:VCALENDAR