BEGIN:VCALENDAR
VERSION:2.0
PRODID:-//jEvents 2.0 for Joomla//EN
CALSCALE:GREGORIAN
METHOD:PUBLISH
BEGIN:VEVENT
UID:4287a7e82d5e8c9c2af31941998dab07
CATEGORIES:Club Events
CREATED:20240315T111223
SUMMARY:Pfingsttreffen
DESCRIPTION:
DTSTAMP:20260421T121813
DTSTART;VALUE=DATE:20240518
DTEND;VALUE=DATE:20240519
SEQUENCE:0
TRANSP:OPAQUE
END:VEVENT
END:VCALENDAR