BEGIN:VCALENDAR
VERSION:2.0
PRODID:-//jEvents 2.0 for Joomla//EN
CALSCALE:GREGORIAN
METHOD:PUBLISH
BEGIN:VEVENT
UID:f5247d83dc499cbf2fd218bc48cc4b27
CATEGORIES:Club Events
CREATED:20240929T105807
SUMMARY:Pfingsttreffen
DESCRIPTION:
DTSTAMP:20260420T205529
DTSTART;VALUE=DATE:20250608
DTEND;VALUE=DATE:20250609
SEQUENCE:0
TRANSP:OPAQUE
END:VEVENT
END:VCALENDAR