BEGIN:VCALENDAR
VERSION:2.0
PRODID:-//jEvents 2.0 for Joomla//EN
CALSCALE:GREGORIAN
METHOD:PUBLISH
BEGIN:VEVENT
UID:391cd8e0275517e97d10c256697d93ce
CATEGORIES:Oldtimer Events
CREATED:20231210T094641
SUMMARY:Schraubertag
LOCATION:Clublager\, Reidermoos
DESCRIPTION:
DTSTAMP:20260421T090636
DTSTART;VALUE=DATE:20240511
DTEND;VALUE=DATE:20240512
SEQUENCE:0
TRANSP:OPAQUE
END:VEVENT
END:VCALENDAR