BEGIN:VCALENDAR
VERSION:2.0
PRODID:-//jEvents 2.0 for Joomla//EN
CALSCALE:GREGORIAN
METHOD:PUBLISH
BEGIN:VEVENT
UID:dae835deb7c133bba132571b3b05232a
CATEGORIES:Club Events
CREATED:20231212T045959
SUMMARY:Klaus/Weihnachtshöck
DESCRIPTION:
DTSTAMP:20260421T090251
DTSTART;VALUE=DATE:20241123
DTEND;VALUE=DATE:20241124
SEQUENCE:0
TRANSP:OPAQUE
END:VEVENT
END:VCALENDAR