BEGIN:VCALENDAR
VERSION:2.0
PRODID:-//jEvents 2.0 for Joomla//EN
CALSCALE:GREGORIAN
METHOD:PUBLISH
BEGIN:VEVENT
UID:06f3bb93c312902bc7393981f7964172
CATEGORIES:Club Events
CREATED:20231210T094037
SUMMARY:Generalversammlung
LOCATION:Restaurant Bären Dottikon
DESCRIPTION:
DTSTAMP:20260421T101253
DTSTART;VALUE=DATE:20240419
DTEND;VALUE=DATE:20240420
SEQUENCE:0
TRANSP:OPAQUE
END:VEVENT
END:VCALENDAR