BEGIN:VCALENDAR
VERSION:2.0
PRODID:-//jEvents 2.0 for Joomla//EN
CALSCALE:GREGORIAN
METHOD:PUBLISH
BEGIN:VEVENT
UID:e48beb0d5c12e97c4b7ba6affb94d7df
CATEGORIES:Club Events
CREATED:20240929T110135
SUMMARY:Fotohöck
DESCRIPTION:
DTSTAMP:20260420T223331
DTSTART;VALUE=DATE:20251017
DTEND;VALUE=DATE:20251018
SEQUENCE:0
TRANSP:OPAQUE
END:VEVENT
END:VCALENDAR